BEGIN:VCALENDAR
VERSION:2.0
PRODID:-//KVC Nebraska - ECPv6.15.20//NONSGML v1.0//EN
CALSCALE:GREGORIAN
METHOD:PUBLISH
X-WR-CALNAME:KVC Nebraska
X-ORIGINAL-URL:https://nebraska.kvc.org
X-WR-CALDESC:Events for KVC Nebraska
REFRESH-INTERVAL;VALUE=DURATION:PT1H
X-Robots-Tag:noindex
X-PUBLISHED-TTL:PT1H
BEGIN:VTIMEZONE
TZID:America/Chicago
BEGIN:DAYLIGHT
TZOFFSETFROM:-0600
TZOFFSETTO:-0500
TZNAME:CDT
DTSTART:20140309T080000
END:DAYLIGHT
BEGIN:STANDARD
TZOFFSETFROM:-0500
TZOFFSETTO:-0600
TZNAME:CST
DTSTART:20141102T070000
END:STANDARD
BEGIN:DAYLIGHT
TZOFFSETFROM:-0600
TZOFFSETTO:-0500
TZNAME:CDT
DTSTART:20150308T080000
END:DAYLIGHT
BEGIN:STANDARD
TZOFFSETFROM:-0500
TZOFFSETTO:-0600
TZNAME:CST
DTSTART:20151101T070000
END:STANDARD
BEGIN:DAYLIGHT
TZOFFSETFROM:-0600
TZOFFSETTO:-0500
TZNAME:CDT
DTSTART:20160313T080000
END:DAYLIGHT
BEGIN:STANDARD
TZOFFSETFROM:-0500
TZOFFSETTO:-0600
TZNAME:CST
DTSTART:20161106T070000
END:STANDARD
BEGIN:DAYLIGHT
TZOFFSETFROM:-0600
TZOFFSETTO:-0500
TZNAME:CDT
DTSTART:20170312T080000
END:DAYLIGHT
BEGIN:STANDARD
TZOFFSETFROM:-0500
TZOFFSETTO:-0600
TZNAME:CST
DTSTART:20171105T070000
END:STANDARD
END:VTIMEZONE
BEGIN:VEVENT
DTSTART;TZID=America/Chicago:20160402T090000
DTEND;TZID=America/Chicago:20160402T150000
DTSTAMP:20260422T101745
CREATED:20160331T020026Z
LAST-MODIFIED:20160331T204314Z
UID:10000544-1459587600-1459609200@nebraska.kvc.org
SUMMARY:Client Giveaway 2016! Center for People in Need
DESCRIPTION:FREE EVENT! \nA day for low-income families to shop for a variety of items at no-cost. Items include\, but may not be limited to: household products\, personal care\, bedding and much more! Bring your CFPIN card\, if you don’t have a Center for People in Need card\, you can fill out a short application. You will require the following: \n1) Photo ID \n2) A piece of mail showing your current address \n3) Proof of income for your entire household (household income cannot exceed 150% of the federal poverty guidelines) \n4) Social Security cards for all persons living in the household. \n 
URL:https://nebraska.kvc.org/event/client-giveaway-2016-center-for-people-in-need/
LOCATION:Center for People in Need\, 901 N. 27th Street\, Lincoln\, NE\, 68521\, United States
ATTACH;FMTTYPE=image/jpeg:https://nebraska.kvc.org/wp-content/uploads/sites/3/2016/03/CFPI.jpg
END:VEVENT
BEGIN:VEVENT
DTSTART;TZID=America/Chicago:20150613T100000
DTEND;TZID=America/Chicago:20150613T120000
DTSTAMP:20260422T101745
CREATED:20150529T234046Z
LAST-MODIFIED:20150529T234046Z
UID:10000603-1434189600-1434196800@nebraska.kvc.org
SUMMARY:Father's Day Event!
DESCRIPTION:Children ages 3-18 years may select a gift for Father’s Day.  Volunteers will assist the children with gift wrapping and making a card for Dad!  Children must be accompanied by an adult. \nPlease bring your Center card to the Event.  If you do not have a Center card\, there is a short application that will need to be filled out in order to participate.  Please bring the following: \n\nPhoto ID\nPiece of mail with current address on it\nSocial Security Cards for everyone in your household\nProof of income
URL:https://nebraska.kvc.org/event/fathers-day-event/
LOCATION:Center for People in Need\, 901 N. 27th Street\, Lincoln\, NE\, 68521\, United States
ATTACH;FMTTYPE=image/jpeg:https://nebraska.kvc.org/wp-content/uploads/sites/3/2015/05/dada.jpg
END:VEVENT
END:VCALENDAR