BEGIN:VCALENDAR
VERSION:2.0
PRODID:-//KVC Nebraska - ECPv6.15.17.1//NONSGML v1.0//EN
CALSCALE:GREGORIAN
METHOD:PUBLISH
X-ORIGINAL-URL:https://nebraska.kvc.org
X-WR-CALDESC:Events for KVC Nebraska
REFRESH-INTERVAL;VALUE=DURATION:PT1H
X-Robots-Tag:noindex
X-PUBLISHED-TTL:PT1H
BEGIN:VTIMEZONE
TZID:America/Chicago
BEGIN:DAYLIGHT
TZOFFSETFROM:-0600
TZOFFSETTO:-0500
TZNAME:CDT
DTSTART:20210314T080000
END:DAYLIGHT
BEGIN:STANDARD
TZOFFSETFROM:-0500
TZOFFSETTO:-0600
TZNAME:CST
DTSTART:20211107T070000
END:STANDARD
BEGIN:DAYLIGHT
TZOFFSETFROM:-0600
TZOFFSETTO:-0500
TZNAME:CDT
DTSTART:20220313T080000
END:DAYLIGHT
BEGIN:STANDARD
TZOFFSETFROM:-0500
TZOFFSETTO:-0600
TZNAME:CST
DTSTART:20221106T070000
END:STANDARD
BEGIN:DAYLIGHT
TZOFFSETFROM:-0600
TZOFFSETTO:-0500
TZNAME:CDT
DTSTART:20230312T080000
END:DAYLIGHT
BEGIN:STANDARD
TZOFFSETFROM:-0500
TZOFFSETTO:-0600
TZNAME:CST
DTSTART:20231105T070000
END:STANDARD
END:VTIMEZONE
BEGIN:VEVENT
DTSTART;TZID=America/Chicago:20220105T100000
DTEND;TZID=America/Chicago:20220105T120000
DTSTAMP:20260420T062721
CREATED:20211117T212038Z
LAST-MODIFIED:20211118T150951Z
UID:10000813-1641376800-1641384000@nebraska.kvc.org
SUMMARY:Medication Aide Training for Shared Living Providers
DESCRIPTION:This training is available to KVC Shared Living providers. \nMedication Aide training reviews safe medication management. After this training\, Shared Living providers should be able to: \n\nGive meds in a safe\, consistent manner; in a clean\, sterile technique; and have medication that is clearly labeled and issued by a pharmacy or hospital\nUnderstand The 8 Rights of Medication Administration\nProperly store medication\n\nIf you have additional questions or would like to register for this training\, please contact Morgan Schmidt\, KVC Training Coordinator\, at mschmidt@kvc.org.
URL:https://nebraska.kvc.org/event/medication-aide-jan22/
ATTACH;FMTTYPE=image/jpeg:https://nebraska.kvc.org/wp-content/uploads/sites/3/2019/03/young-boy-with-disability-hugging-mom-or-caregiver.jpg
END:VEVENT
BEGIN:VEVENT
DTSTART;TZID=America/Chicago:20220107T100000
DTEND;TZID=America/Chicago:20220107T113000
DTSTAMP:20260420T062721
CREATED:20211117T212145Z
LAST-MODIFIED:20211117T213518Z
UID:10000812-1641549600-1641555000@nebraska.kvc.org
SUMMARY:CPR/First Aid for Shared Living Providers (Blended Learning)
DESCRIPTION:This training is available to Shared Living providers. \nThis course will prepare you to recognize and care for a variety of first aid\, breathing\, and cardiac emergencies involving adults\, children\, and infants. This training meets OSHA/workplace requirements. \nThis is a blended learning course including an online portion and an instructor-led classroom skill session. The online portion must be completed prior to attending the in-class portion and must be taken on a PC or tablet with a high-speed Internet connection. Allow approximately 2 hours and 30 minutes to complete the online portion. \nUpon successful completion of this course\, you will receive a digital certificate for Adult and Pediatric First Aid/CPR/AED valid for two years. \nIf you have additional questions or would like to register for this training\, please contact Morgan Schmidt\, KVC Training Coordinator\, at mschmidt@kvc.org.
URL:https://nebraska.kvc.org/event/cpr-first-aid-training-jan22/
LOCATION:KVC Nebraska Omaha Office\, 11550 I Street\, Omaha\, NE\, 68137\, United States
ATTACH;FMTTYPE=image/jpeg:https://nebraska.kvc.org/wp-content/uploads/sites/3/2019/08/iStock-647820796.jpg
END:VEVENT
BEGIN:VEVENT
DTSTART;TZID=America/Chicago:20220122T093000
DTEND;TZID=America/Chicago:20220122T113000
DTSTAMP:20260420T062721
CREATED:20211118T150854Z
LAST-MODIFIED:20211118T150854Z
UID:10000652-1642843800-1642851000@nebraska.kvc.org
SUMMARY:Grief and Loss in Children Training - Webcast
DESCRIPTION:This training on grief and loss in children is available to KVC foster parents. It is worth 2 CEUs. Email Morgan Schmidt\, KVC Training Coordinator\, at mschmidt@kvc.org to sign up. \nTraining Description:  \nDuring this session\, participants will understand the Stages of Grief\, understand how children and adolescents express their grief and loss\, understand ambiguous loss\, identify how to help youth through the grieving process\, and apply their newly learned knowledge to a case study. \n\nAdditional questions? Contact Morgan Schmidt\, Training Coordinator\, at mschmidt@kvc.org.
URL:https://nebraska.kvc.org/event/grief-and-loss-training-jan22/
ATTACH;FMTTYPE=image/jpeg:https://nebraska.kvc.org/wp-content/uploads/sites/3/2020/12/mom-and-son-talking-on-video-chat-web.jpg
END:VEVENT
BEGIN:VEVENT
DTSTART;TZID=America/Chicago:20220122T123000
DTEND;TZID=America/Chicago:20220122T143000
DTSTAMP:20260420T062721
CREATED:20211117T220223Z
LAST-MODIFIED:20211117T220235Z
UID:10000839-1642854600-1642861800@nebraska.kvc.org
SUMMARY:Attachment and Bonding Training for KVC Foster Parents - Webcast
DESCRIPTION:This Attachment and Bonding training is available to KVC foster parents and worth 2 CEUs. Email Morgan Schmidt\, KVC Training Coordinator\, at mschmidt@kvc.org to sign up. \nIn this training\, you will learn: \n\nThe difference between attachment and bonding.\nThe four types of attachments and the Strange Situation Procedure.\nHow to support established attachments while supporting new attachments and demonstrate the ability to support the attachments children have.\nHow trauma affects the ability to attach and know the signs of a possible attachment disorder.\n\nIf you have additional questions\, you can contact Morgan Schmidt at mschmidt@kvc.org.
URL:https://nebraska.kvc.org/event/attachment-and-bonding-training-jan22/
ATTACH;FMTTYPE=image/png:https://nebraska.kvc.org/wp-content/uploads/sites/3/2020/05/white-mom-and-teen-girl-hugging.png
END:VEVENT
END:VCALENDAR