BEGIN:VCALENDAR
VERSION:2.0
PRODID:-//KVC Nebraska - ECPv6.15.20//NONSGML v1.0//EN
CALSCALE:GREGORIAN
METHOD:PUBLISH
X-ORIGINAL-URL:https://nebraska.kvc.org
X-WR-CALDESC:Events for KVC Nebraska
REFRESH-INTERVAL;VALUE=DURATION:PT1H
X-Robots-Tag:noindex
X-PUBLISHED-TTL:PT1H
BEGIN:VTIMEZONE
TZID:America/Chicago
BEGIN:DAYLIGHT
TZOFFSETFROM:-0600
TZOFFSETTO:-0500
TZNAME:CDT
DTSTART:20200308T080000
END:DAYLIGHT
BEGIN:STANDARD
TZOFFSETFROM:-0500
TZOFFSETTO:-0600
TZNAME:CST
DTSTART:20201101T070000
END:STANDARD
BEGIN:DAYLIGHT
TZOFFSETFROM:-0600
TZOFFSETTO:-0500
TZNAME:CDT
DTSTART:20210314T080000
END:DAYLIGHT
BEGIN:STANDARD
TZOFFSETFROM:-0500
TZOFFSETTO:-0600
TZNAME:CST
DTSTART:20211107T070000
END:STANDARD
BEGIN:DAYLIGHT
TZOFFSETFROM:-0600
TZOFFSETTO:-0500
TZNAME:CDT
DTSTART:20220313T080000
END:DAYLIGHT
BEGIN:STANDARD
TZOFFSETFROM:-0500
TZOFFSETTO:-0600
TZNAME:CST
DTSTART:20221106T070000
END:STANDARD
END:VTIMEZONE
BEGIN:VEVENT
DTSTART;VALUE=DATE:20211206
DTEND;VALUE=DATE:20211211
DTSTAMP:20260421T125705
CREATED:20211005T134830Z
LAST-MODIFIED:20211117T213825Z
UID:10000814-1638748800-1639180799@nebraska.kvc.org
SUMMARY:E-Learning Mandt Training (Preventing\, De-escalating\, Intervening)
DESCRIPTION:Date: Monday\, December 6 – Friday\, December 10 \nThis e-Learning Mandt training is available to Shared Living Providers. An email with instructions on how to access this training will be sent to Providers who submit the registration form and pay the $33 deposit. Participants will receive this email on Monday\, Dec. 6 from Mandt. The training must be completed by Friday\, Dec. 10 at 10am. Contact Morgan Schmidt at mschmidt@kvc.org to sign up and pay the deposit. \nThe Mandt System is a comprehensive\, integrated approach to preventing\, de-escalating\, and if necessary\, intervening when the behavior of an individual poses a threat of harm to themselves and/or others. The focus of The Mandt System is on building healthy relationships between all the stakeholders in human service settings in order to facilitate the development of an organizational culture that provides the emotional\, psychological\, and physical safety needed in order to teach new behaviors to replace the behaviors that are labeled “challenging.” \nThe Mandt System integrates knowledge about the neurobiological impact of childhood trauma with the principles of positive behavior support and provides a framework that empowers service providers to do their work in a way that minimizes the use of coercion in behavior change methodologies \nIf you have additional questions or want to sign up for this training\, contact our Training Coordinator\, Morgan Schmidt\, at mschmidt@kvc.org.
URL:https://nebraska.kvc.org/event/e-learning-mandt-training-preventing-de-escalating-intervening/
ATTACH;FMTTYPE=image/png:https://nebraska.kvc.org/wp-content/uploads/sites/3/2021/01/shared-living-image.png
END:VEVENT
BEGIN:VEVENT
DTSTART;TZID=America/Chicago:20211208T110000
DTEND;TZID=America/Chicago:20211208T210000
DTSTAMP:20260421T125705
CREATED:20211119T164641Z
LAST-MODIFIED:20211119T171018Z
UID:10000653-1638961200-1638997200@nebraska.kvc.org
SUMMARY:Help KVC Raise Some Dough! Papa Murphy's Fundraiser
DESCRIPTION:Don’t worry! We know what’s for dinner (pizza!). Head to Papa Murphy’s in Lincoln on Wednesday\, Dec. 8th to join KVC Nebraska in supporting Nebraska youth\, families and adults. Enjoy some tasty pizza or stock your freezer while raising some dough for KVC and learn how you can give children and teens in Lincoln a caring\, safe place to be themselves by becoming a foster parent. \nPapa Murphy’s will donate 20% of all purchases on Dec. 8th to KVC! \nWhere?\n4500 S 70th St\, Suite 106 \nLincoln\, NE 68516 \nWhen?\nWednesday\, Dec. 8th \n11am – 9pm
URL:https://nebraska.kvc.org/event/papa-murphys/
LOCATION:Papa Murphy’s\, 4500 S 70th Street\, Suite 106\, Lincoln\, NE\, 68516\, United States
ATTACH;FMTTYPE=image/png:https://nebraska.kvc.org/wp-content/uploads/sites/3/2021/11/NE-Papa-Murphys-Wordpress-Event-Image.png
END:VEVENT
BEGIN:VEVENT
DTSTART;TZID=America/Chicago:20211208T173000
DTEND;TZID=America/Chicago:20211208T193000
DTSTAMP:20260421T125705
CREATED:20210825T205652Z
LAST-MODIFIED:20211117T213854Z
UID:10000821-1638984600-1638991800@nebraska.kvc.org
SUMMARY:Medication Aide Training for Shared Living Providers
DESCRIPTION:This training is available to KVC Shared Living providers. \nMedication Aide training reviews safe medication management. After this training\, Shared Living providers should be able to: \n\nGive meds in a safe\, consistent manner; in a clean\, sterile technique; and have medication that is clearly labeled and issued by a pharmacy or hospital\nUnderstand The 8 Rights of Medication Administration\nProperly store medication\n\nIf you have additional questions or would like to register for this training\, please contact Morgan Schmidt\, KVC Training Coordinator\, at mschmidt@kvc.org.
URL:https://nebraska.kvc.org/event/dec21-med-aide-training/
LOCATION:KVC Nebraska Omaha Office\, 11550 I Street\, Omaha\, NE\, 68137\, United States
ATTACH;FMTTYPE=image/jpeg:https://nebraska.kvc.org/wp-content/uploads/sites/3/2020/01/dad-and-son-with-disabilty_web.jpg
END:VEVENT
END:VCALENDAR