BEGIN:VCALENDAR
VERSION:2.0
PRODID:-//KVC Nebraska - ECPv6.15.20//NONSGML v1.0//EN
CALSCALE:GREGORIAN
METHOD:PUBLISH
X-WR-CALNAME:KVC Nebraska
X-ORIGINAL-URL:https://nebraska.kvc.org
X-WR-CALDESC:Events for KVC Nebraska
REFRESH-INTERVAL;VALUE=DURATION:PT1H
X-Robots-Tag:noindex
X-PUBLISHED-TTL:PT1H
BEGIN:VTIMEZONE
TZID:America/Chicago
BEGIN:DAYLIGHT
TZOFFSETFROM:-0600
TZOFFSETTO:-0500
TZNAME:CDT
DTSTART:20200308T080000
END:DAYLIGHT
BEGIN:STANDARD
TZOFFSETFROM:-0500
TZOFFSETTO:-0600
TZNAME:CST
DTSTART:20201101T070000
END:STANDARD
BEGIN:DAYLIGHT
TZOFFSETFROM:-0600
TZOFFSETTO:-0500
TZNAME:CDT
DTSTART:20210314T080000
END:DAYLIGHT
BEGIN:STANDARD
TZOFFSETFROM:-0500
TZOFFSETTO:-0600
TZNAME:CST
DTSTART:20211107T070000
END:STANDARD
BEGIN:DAYLIGHT
TZOFFSETFROM:-0600
TZOFFSETTO:-0500
TZNAME:CDT
DTSTART:20220313T080000
END:DAYLIGHT
BEGIN:STANDARD
TZOFFSETFROM:-0500
TZOFFSETTO:-0600
TZNAME:CST
DTSTART:20221106T070000
END:STANDARD
END:VTIMEZONE
BEGIN:VEVENT
DTSTART;TZID=America/Chicago:20211113T090000
DTEND;TZID=America/Chicago:20211113T113000
DTSTAMP:20260423T055150
CREATED:20210830T222212Z
LAST-MODIFIED:20210830T222922Z
UID:10000650-1636794000-1636803000@nebraska.kvc.org
SUMMARY:Safety & Connection through Effective Communication Training for KVC Foster Parents
DESCRIPTION:This Safety & Connection through Effective Communication training is available to prospective foster parents and licensed KVC foster parents. It is worth 2.5 CEUs. Sign up by clicking here or on the button below. \nTraining Description:  \nAt KVC Nebraska\, we believe children and families can grow by experiencing healthy relationships. In the Mandt System Training\, there are several helpful verbal de-escalation tools taught that employees\, foster families\, and Shared Living Providers can utilize to encourage safety and connection through effective communication with individuals served\, family members\, co-workers\, friendships\, professionals\, etc. \nThe Mandt System trains R.A.D.A.R. as a way to help individuals effectively assess what is going on inside of them\, with the people around them\, and their environment to impact their decision-making skills and decide to act in a helpful way\, instead of depending only on their reactions to the situation. The Mandt System also shows how Maslow’s Hierarchy\, a history of Trauma\, the Crisis Cycle\, and what a person believes can help participants gain even more insight into a person’s behavior\, family\, their sense of hope\, physical and psychological health so they can help resolve conflicts and understand a person’s story. \nIf you are a prospective foster parent or a licensed KVC foster parent\, please complete the “KVC AFFILIATE REGISTRATION” form below. \nKVC AFFILIATE REGISTRATION\nIf you have additional questions\, you can contact Morgan Schmidt\, Training Coordinator\, at mschmidt@kvc.org.
URL:https://nebraska.kvc.org/event/nov21-safety-connection-through-effective-communication-training/
ATTACH;FMTTYPE=image/jpeg:https://nebraska.kvc.org/wp-content/uploads/sites/3/2021/02/adult-man-and-teen-girl-mentor-web.jpg
END:VEVENT
END:VCALENDAR